{"text_format":"1","workbook":"xlsx","n_sheets":6,"sheets":["Gerar Hietograma","Ponto","A10a50","Planilha1","A50a400","Interpolação"],"not_rendered":{"charts":12,"images":0,"macros":1,"external_links":0,"defined_names":2,"comments":0,"pivot_tables":0},"unopened":[],"bounds":{"document_bytes":16777216,"sheet_cells":100000,"rows_first":2000,"rows_last":500,"rows_between":2000,"halvings":0,"cell_chars":16384,"cell_head_chars":4096},"cells_cut":0,"cells_raw":0,"read":"whole","date_system":"1900"}

{"sheet":"Gerar Hietograma","index":0,"n_rows":52,"n_cols":7,"rows_kept":52,"cut":false,"hidden":false,"merged":[[0,1,0,2]]}
[null,"Quartil"]
[null,null,null,null,"intervalos",24]
[null,null,null,null,"TD",1440,"min"]
[null,null,null,null,"P",107,"mm"]
[null,null,null,null,2]
[null,null,null,null,3]
[]
[]
["Tempo","Hietograma",0]
[{"$f":"Interpolação!J12","v":0},{"$f":"Interpolação!N12","v":0},{"$f":"B10+C9","v":0}]
[{"$f":"Interpolação!J13","v":60},{"$f":"Interpolação!N13","v":1.7833333333333334},{"$f":"B11+C10","v":1.7833333333333334}]
[{"$f":"Interpolação!J14","v":120},{"$f":"Interpolação!N14","v":1.7833333333333334},3.5666666666666669]
[{"$f":"Interpolação!J15","v":180},{"$f":"Interpolação!N15","v":2.8533333333333331},6.42]
[{"$f":"Interpolação!J16","v":240},{"$f":"Interpolação!N16","v":3.5666666666666664},9.9866666666666664]
[{"$f":"Interpolação!J17","v":300},{"$f":"Interpolação!N17","v":4.4583333333333339},14.445]
[{"$f":"Interpolação!J18","v":360},{"$f":"Interpolação!N18","v":8.0250000000000021},22.470000000000002]
[{"$f":"Interpolação!J19","v":420},{"$f":"Interpolação!N19","v":8.9166666666666679},31.38666666666667]
[{"$f":"Interpolação!J20","v":480},{"$f":"Interpolação!N20","v":9.6300000000000097},41.01666666666668]
[{"$f":"Interpolação!J21","v":540},{"$f":"Interpolação!N21","v":9.80833333333333},50.82500000000001]
[{"$f":"Interpolação!J22","v":600},{"$f":"Interpolação!N22","v":9.8083333333333229},60.633333333333333]
[{"$f":"Interpolação!J23","v":660},{"$f":"Interpolação!N23","v":9.4516666666666751},70.085000000000008]
[{"$f":"Interpolação!J24","v":720},{"$f":"Interpolação!N24","v":8.0249999999999915},78.11]
[{"$f":"Interpolação!J25","v":780},{"$f":"Interpolação!N25","v":6.24166666666666},84.351666666666659]
[{"$f":"Interpolação!J26","v":840},{"$f":"Interpolação!N26","v":5.5283333333333502},89.88000000000001]
[{"$f":"Interpolação!J27","v":900},{"$f":"Interpolação!N27","v":3.7449999999999903},93.625]
[{"$f":"Interpolação!J28","v":960},{"$f":"Interpolação!N28","v":2.6750000000000114},96.300000000000011]
[{"$f":"Interpolação!J29","v":1020},{"$f":"Interpolação!N29","v":2.4966666666666697},98.796666666666681]
[{"$f":"Interpolação!J30","v":1080},{"$f":"Interpolação!N30","v":1.7833333333333314},100.58000000000001]
[{"$f":"Interpolação!J31","v":1140},{"$f":"Interpolação!N31","v":1.7833333333333172},102.36333333333333]
[{"$f":"Interpolação!J32","v":1200},{"$f":"Interpolação!N32","v":1.0700000000000074},103.43333333333334]
[{"$f":"Interpolação!J33","v":1260},{"$f":"Interpolação!N33","v":0.89166666666666572},104.325]
[{"$f":"Interpolação!J34","v":1320},{"$f":"Interpolação!N34","v":0.89166666666666572},105.21666666666667]
[{"$f":"Interpolação!J35","v":1380},{"$f":"Interpolação!N35","v":0.89166666666666572},106.10833333333333]
[{"$f":"Interpolação!J36","v":1440},{"$f":"Interpolação!N36","v":0.89166666666666572},107]
[{"$f":"Interpolação!J37","v":1500},{"$f":"Interpolação!N37","v":0}]
[{"$f":"Interpolação!J38","v":1560},{"$f":"Interpolação!N38","v":0}]
[{"$f":"Interpolação!J39","v":1620},{"$f":"Interpolação!N39","v":0}]
[{"$f":"Interpolação!J40","v":1680},{"$f":"Interpolação!N40","v":0}]
[{"$f":"Interpolação!J41","v":1740},{"$f":"Interpolação!N41","v":0}]
[{"$f":"Interpolação!J42","v":1800},{"$f":"Interpolação!N42","v":0}]
[{"$f":"Interpolação!J43","v":1860},{"$f":"Interpolação!N43","v":0}]
[{"$f":"Interpolação!J44","v":1920},{"$f":"Interpolação!N44","v":0}]
[{"$f":"Interpolação!J45","v":1980},{"$f":"Interpolação!N45","v":0}]
[{"$f":"Interpolação!J46","v":2040},{"$f":"Interpolação!N46","v":0}]
[{"$f":"Interpolação!J47","v":2100},{"$f":"Interpolação!N47","v":0}]
[{"$f":"Interpolação!J48","v":2160},{"$f":"Interpolação!N48","v":0}]
[{"$f":"Interpolação!J49","v":2220},{"$f":"Interpolação!N49","v":0}]
[{"$f":"Interpolação!J50","v":2280},{"$f":"Interpolação!N50","v":0}]
[{"$f":"Interpolação!J51","v":2340},{"$f":"Interpolação!N51","v":0}]
[{"$f":"Interpolação!J52","v":2400},{"$f":"Interpolação!N52","v":0}]
[{"$f":"Interpolação!J53","v":2460},{"$f":"Interpolação!N53","v":0}]
[{"$f":"Interpolação!J54","v":2520},{"$f":"Interpolação!N54","v":0}]

{"sheet":"Ponto","index":1,"n_rows":23,"n_cols":9,"rows_kept":23,"cut":false,"hidden":false,"merged":[[0,0,0,4]]}
["Table  3.  Median  Time  Distributions  of  Heavy  Storm  Rainfall at  a  Point "]
["Cumulative   percent of  storm  time","First- quartile","Second- quartile","Third- quartile","Fourth- quartile"]
[0,0,0,0,0,0,0,0,0]
[5,16,3,3,2,{"$f":"B4-B3","v":16},{"$f":"C4-C3","v":3},3,2]
[10,33,8,6,5,{"$f":"B5-B4","v":17},5,3,3]
[15,43,12,9,8,10,4,3,3]
[20,52,16,12,10,9,4,3,2]
[25,60,22,15,13,8,6,3,3]
[30,66,29,19,16,6,7,4,3]
[35,71,39,23,19,5,10,4,3]
[40,75,51,27,22,4,12,4,3]
[45,79,62,32,25,4,11,5,3]
[50,82,70,38,28,3,8,6,3]
[55,84,76,45,32,2,6,7,4]
[60,86,81,57,35,2,5,12,3]
[65,88,85,70,39,2,4,13,4]
[70,90,88,79,45,2,3,9,6]
[75,92,91,85,51,2,3,6,6]
[80,94,93,89,59,2,2,4,8]
[85,96,95,92,72,2,2,3,13]
[90,97,97,95,84,1,2,3,12]
[95,98,98,97,92,1,1,2,8]
[100,100,100,100,100,2,2,3,8]

{"sheet":"A10a50","index":2,"n_rows":24,"n_cols":9,"rows_kept":24,"cut":false,"hidden":false,"merged":[[1,1,1,4],[1,0,2,0],[0,0,0,4]]}
["Table   4.   Median   Time   Distributions   of   Heavy   Storm   Rainfall on  Areas  of  10  to  50  Square  Miles"]
["Cumulative   percent of  storm  time","Cumulative  percent  of  storm  rainfall  for  given  storm  type"]
[null,"First- quartile","Second- quartile","Third- quartile","Fourth- quartile"]
[0,0,0,0,0,0,0,0,0]
[5,12,3,2,2,{"$f":"B5-B4","v":12},{"$f":"C5-C4","v":3},2,2]
[10,25,6,5,4,{"$f":"B6-B5","v":13},3,3,2]
[15,38,10,8,7,13,4,3,3]
[20,51,14,12,9,13,4,4,2]
[25,62,21,14,11,11,7,2,2]
[30,69,30,17,13,7,9,3,2]
[35,74,40,20,15,5,10,3,2]
[40,78,52,23,18,4,12,3,3]
[45,81,63,27,21,3,11,4,3]
[50,84,72,33,24,3,9,6,3]
[55,86,78,42,27,2,6,9,3]
[60,88,83,55,30,2,5,13,3]
[65,90,87,69,34,2,4,14,4]
[70,92,90,79,40,2,3,10,6]
[75,94,92,86,47,2,2,7,7]
[80,95,94,91,57,1,2,5,10]
[85,96,96,94,74,1,2,3,17]
[90,97,97,96,88,1,1,2,14]
[95,98,98,98,95,1,1,2,7]
[100,100,100,100,100,2,2,2,5]

{"sheet":"Planilha1","index":3,"n_rows":26,"n_cols":13,"rows_kept":26,"cut":false,"hidden":false,"merged":[]}
[]
[]
[null,null,null,null,null,null,null,null,null,null,180]
[null,null,null,null,null,null,null,null,null,null,18]
[null,null,null,null,null,"Tempo","1q","2q","3q","4q"]
[null,null,null,9,1,0,0,0,0,0,10,{"$f":"F6*$K$3/100","v":0},{"$f":"E6*($K$3/$K$4)","v":10}]
[null,null,null,9,2,5,12,3,2,2,10,{"$f":"F7*$K$3/100","v":9},{"$f":"E7*($K$3/$K$4)","v":20}]
[null,null,null,9,3,10,25,6,5,4,10,18,30]
[null,null,null,9,4,15,38,10,8,7,10,27,40]
[null,null,null,9,5,20,51,14,12,9,10,36,50]
[null,null,null,9,6,25,62,21,14,11,10,45,60]
[null,null,null,9,7,30,69,30,17,13,10,54,70]
[null,null,null,9,8,35,74,40,20,15,10,63,80]
[null,null,null,9,9,40,78,52,23,18,10,72,90]
[null,null,null,9,10,45,81,63,27,21,10,81,100]
[null,null,null,9,11,50,84,72,33,24,10,90,110]
[null,null,null,9,12,55,86,78,42,27,10,99,120]
[null,null,null,9,13,60,88,83,55,30,10,108,130]
[null,null,null,9,14,65,90,87,69,34,10,117,140]
[null,null,null,9,15,70,92,90,79,40,10,126,150]
[null,null,null,9,16,75,94,92,86,47,10,135,160]
[null,null,null,9,17,80,95,94,91,57,10,144,170]
[null,null,null,9,18,85,96,96,94,74,10,153,180]
[null,null,null,9,19,90,97,97,96,88,10,162]
[null,null,null,9,20,95,98,98,98,95,10,171]
[null,null,null,9,21,100,100,100,100,100,10,180]

{"sheet":"A50a400","index":4,"n_rows":50,"n_cols":9,"rows_kept":50,"cut":false,"hidden":false,"merged":[[26,0,26,3],[27,1,27,3],[27,0,28,0],[1,0,1,4],[0,0,0,7]]}
["Table   1.   Median   Time   Distributions   of   Heavy   Storm   Rainfall on  Areas  of  50  to  400  Square  Miles"]
["Cumulative  percent  of  storm  rainfall  for  given  storm  type"]
["Cumulative   percent of storm time","First quartile","Second quartile","Third quartile","Fourth quartile"]
[0,0,0,0,0,0,0,0,0]
[5,8,2,2,2,{"$f":"B5-B4","v":8},{"$f":"C5-C4","v":2},2,2]
[10,17,4,4,3,{"$f":"B6-B5","v":9},2,2,1]
[15,34,8,7,5,17,4,3,2]
[20,50,12,10,7,16,4,3,2]
[25,63,21,12,9,13,9,2,2]
[30,71,31,14,10,8,10,2,1]
[35,76,42,16,12,5,11,2,2]
[40,80,53,19,14,4,11,3,2]
[45,83,64,22,16,3,11,3,2]
[50,86,73,29,19,3,9,7,3]
[55,88,80,39,21,2,7,10,2]
[60,90,86,54,25,2,6,15,4]
[65,92,89,68,29,2,3,14,4]
[70,93,92,79,35,1,3,11,6]
[75,95,94,87,43,2,2,8,8]
[80,96,96,92,54,1,2,5,11]
[85,97,97,95,75,1,1,3,21]
[90,98,98,97,92,1,1,2,17]
[95,99,99,99,97,1,1,2,5]
[100,100,100,100,100,1,1,1,3]
[]
[]
["Table  2.  Median  Time  Distributions  of  Area1  Mean  Rainfall\nin  First-Quartile  Storms  at  10%,  50%,  and  90%  Probability  Levels"]
["Cumulative  percent of  storm  time","Cumulative  percent  of  storm  rainfall for  given  storm  probability"]
[null,0.1,0.5,0.9]
[0,0,0,0,0,0,0]
[5,24,8,2,{"$f":"B31-B30","v":24},{"$f":"C31-C30","v":8},2]
[10,50,17,4,{"$f":"B32-B31","v":26},{"$f":"C32-C31","v":9},{"$f":"D32-D31","v":2}]
[15,71,34,13,21,17,9]
[20,84,50,28,13,16,15]
[25,89,63,39,5,13,11]
[30,92,71,46,3,8,7]
[35,94,76,49,2,5,3]
[40,95,80,52,1,4,3]
[45,96,83,55,1,3,3]
[50,97,86,57,1,3,2]
[55,98,88,60,1,2,3]
[60,98,90,63,0,2,3]
[65,98,92,67,0,2,4]
[70,99,93,72,1,1,5]
[75,99,95,76,0,2,4]
[80,99,96,82,0,1,6]
[85,99,97,89,0,1,7]
[90,99,98,94,0,1,5]
[95,99,99,97,0,1,3]
[100,100,100,100,1,1,3]

{"sheet":"Interpolação","index":5,"n_rows":54,"n_cols":44,"rows_kept":54,"cut":false,"hidden":false,"merged":[]}
["pontos na curva",21,null,null,"delta T",{"$f":"(B1-1)/'Gerar Hietograma'!F2","v":0.83333333333333337}]
[null,0,{"$f":"'Gerar Hietograma'!F3/'Gerar Hietograma'!F2*C3","v":60},{"$f":"'Gerar Hietograma'!$F$3/'Gerar Hietograma'!$F$2*D3","v":120},{"$f":"'Gerar Hietograma'!$F$3/'Gerar Hietograma'!$F$2*E3","v":180},{"$f":"'Gerar Hietograma'!$F$3/'Gerar Hietograma'!$F$2*F3","v":240},{"$f":"'Gerar Hietograma'!$F$3/'Gerar Hietograma'!$F$2*G3","v":300},{"$f":"'Gerar Hietograma'!$F$3/'Gerar Hietograma'!$F$2*H3","v":360},{"$f":"'Gerar Hietograma'!$F$3/'Gerar Hietograma'!$F$2*I3","v":420},{"$f":"'Gerar Hietograma'!$F$3/'Gerar Hietograma'!$F$2*J3","v":480},{"$f":"'Gerar Hietograma'!$F$3/'Gerar Hietograma'!$F$2*K3","v":540},{"$f":"'Gerar Hietograma'!$F$3/'Gerar Hietograma'!$F$2*L3","v":600},{"$f":"'Gerar Hietograma'!$F$3/'Gerar Hietograma'!$F$2*M3","v":660},{"$f":"'Gerar Hietograma'!$F$3/'Gerar Hietograma'!$F$2*N3","v":720},{"$f":"'Gerar Hietograma'!$F$3/'Gerar Hietograma'!$F$2*O3","v":780},{"$f":"'Gerar Hietograma'!$F$3/'Gerar Hietograma'!$F$2*P3","v":840},{"$f":"'Gerar Hietograma'!$F$3/'Gerar Hietograma'!$F$2*Q3","v":900},{"$f":"'Gerar Hietograma'!$F$3/'Gerar Hietograma'!$F$2*R3","v":960},{"$f":"'Gerar Hietograma'!$F$3/'Gerar Hietograma'!$F$2*S3","v":1020},{"$f":"'Gerar Hietograma'!$F$3/'Gerar Hietograma'!$F$2*T3","v":1080},{"$f":"'Gerar Hietograma'!$F$3/'Gerar Hietograma'!$F$2*U3","v":1140},{"$f":"'Gerar Hietograma'!$F$3/'Gerar Hietograma'!$F$2*V3","v":1200},{"$f":"'Gerar Hietograma'!$F$3/'Gerar Hietograma'!$F$2*W3","v":1260},{"$f":"'Gerar Hietograma'!$F$3/'Gerar Hietograma'!$F$2*X3","v":1320},{"$f":"'Gerar Hietograma'!$F$3/'Gerar Hietograma'!$F$2*Y3","v":1380},{"$f":"'Gerar Hietograma'!$F$3/'Gerar Hietograma'!$F$2*Z3","v":1440},{"$f":"'Gerar Hietograma'!$F$3/'Gerar Hietograma'!$F$2*AA3","v":1500},{"$f":"'Gerar Hietograma'!$F$3/'Gerar Hietograma'!$F$2*AB3","v":1560},{"$f":"'Gerar Hietograma'!$F$3/'Gerar Hietograma'!$F$2*AC3","v":1620},{"$f":"'Gerar Hietograma'!$F$3/'Gerar Hietograma'!$F$2*AD3","v":1680},{"$f":"'Gerar Hietograma'!$F$3/'Gerar Hietograma'!$F$2*AE3","v":1740},{"$f":"'Gerar Hietograma'!$F$3/'Gerar Hietograma'!$F$2*AF3","v":1800},{"$f":"'Gerar Hietograma'!$F$3/'Gerar Hietograma'!$F$2*AG3","v":1860},{"$f":"'Gerar Hietograma'!$F$3/'Gerar Hietograma'!$F$2*AH3","v":1920},{"$f":"'Gerar Hietograma'!$F$3/'Gerar Hietograma'!$F$2*AI3","v":1980},{"$f":"'Gerar Hietograma'!$F$3/'Gerar Hietograma'!$F$2*AJ3","v":2040},{"$f":"'Gerar Hietograma'!$F$3/'Gerar Hietograma'!$F$2*AK3","v":2100},{"$f":"'Gerar Hietograma'!$F$3/'Gerar Hietograma'!$F$2*AL3","v":2160},{"$f":"'Gerar Hietograma'!$F$3/'Gerar Hietograma'!$F$2*AM3","v":2220},{"$f":"'Gerar Hietograma'!$F$3/'Gerar Hietograma'!$F$2*AN3","v":2280},{"$f":"'Gerar Hietograma'!$F$3/'Gerar Hietograma'!$F$2*AO3","v":2340},{"$f":"'Gerar Hietograma'!$F$3/'Gerar Hietograma'!$F$2*AP3","v":2400},{"$f":"'Gerar Hietograma'!$F$3/'Gerar Hietograma'!$F$2*AQ3","v":2460},{"$f":"'Gerar Hietograma'!$F$3/'Gerar Hietograma'!$F$2*AR3","v":2520}]
["J",0,1,2,3,4,5,6,7,8,9,10,11,12,13,14,15,16,17,18,19,20,21,22,23,24,25,26,27,28,29,30,31,32,33,34,35,36,37,38,39,40,41,42]
["h",0,{"$f":"C3*Interpolação!$F$1+1","v":1.8333333333333335},{"$f":"D3*Interpolação!$F$1+1","v":2.666666666666667},{"$f":"E3*Interpolação!$F$1+1","v":3.5},{"$f":"F3*Interpolação!$F$1+1","v":4.3333333333333339},{"$f":"G3*Interpolação!$F$1+1","v":5.166666666666667},{"$f":"H3*Interpolação!$F$1+1","v":6},{"$f":"I3*Interpolação!$F$1+1","v":6.8333333333333339},{"$f":"J3*Interpolação!$F$1+1","v":7.666666666666667},{"$f":"K3*Interpolação!$F$1+1","v":8.5},{"$f":"L3*Interpolação!$F$1+1","v":9.3333333333333339},{"$f":"M3*Interpolação!$F$1+1","v":10.166666666666668},{"$f":"N3*Interpolação!$F$1+1","v":11},{"$f":"O3*Interpolação!$F$1+1","v":11.833333333333334},{"$f":"P3*Interpolação!$F$1+1","v":12.666666666666668},{"$f":"Q3*Interpolação!$F$1+1","v":13.5},{"$f":"R3*Interpolação!$F$1+1","v":14.333333333333334},{"$f":"S3*Interpolação!$F$1+1","v":15.166666666666668},{"$f":"T3*Interpolação!$F$1+1","v":16},{"$f":"U3*Interpolação!$F$1+1","v":16.833333333333336},{"$f":"V3*Interpolação!$F$1+1","v":17.666666666666668},{"$f":"W3*Interpolação!$F$1+1","v":18.5},{"$f":"X3*Interpolação!$F$1+1","v":19.333333333333336},{"$f":"Y3*Interpolação!$F$1+1","v":20.166666666666668},{"$f":"Z3*Interpolação!$F$1+1","v":21},{"$f":"AA3*Interpolação!$F$1+1","v":21.833333333333336},{"$f":"AB3*Interpolação!$F$1+1","v":22.666666666666668},{"$f":"AC3*Interpolação!$F$1+1","v":23.5},{"$f":"AD3*Interpolação!$F$1+1","v":24.333333333333336},{"$f":"AE3*Interpolação!$F$1+1","v":25.166666666666668},{"$f":"AF3*Interpolação!$F$1+1","v":26},{"$f":"AG3*Interpolação!$F$1+1","v":26.833333333333336},{"$f":"AH3*Interpolação!$F$1+1","v":27.666666666666668},{"$f":"AI3*Interpolação!$F$1+1","v":28.5},{"$f":"AJ3*Interpolação!$F$1+1","v":29.333333333333336},{"$f":"AK3*Interpolação!$F$1+1","v":30.166666666666668},{"$f":"AL3*Interpolação!$F$1+1","v":31},{"$f":"AM3*Interpolação!$F$1+1","v":31.833333333333336},{"$f":"AN3*Interpolação!$F$1+1","v":32.666666666666671},{"$f":"AO3*Interpolação!$F$1+1","v":33.5},{"$f":"AP3*Interpolação!$F$1+1","v":34.333333333333336},{"$f":"AQ3*Interpolação!$F$1+1","v":35.166666666666671},{"$f":"AR3*Interpolação!$F$1+1","v":36}]
["m",0,{"$f":"INT(C4)","v":1},2,3,4,5,6,6,7,8,9,10,11,11,12,13,14,15,16,16,17,18,19,20,21,21,22,23,24,25,26,26,27,28,29,30,31,31,32,33,34,35,36]
["Pm",0,{"$f":"VLOOKUP(C5,$F$12:$H$111,3,0)","v":0},2.14,4.28,8.56,12.84,22.470000000000002,22.470000000000002,33.17,{"$f":"VLOOKUP(K5,$F$12:$H$111,3,0)","v":44.940000000000005},56.71,68.48,78.11,78.11,85.600000000000009,92.02000000000001,95.23,98.440000000000012,100.58000000000001,100.58000000000001,102.72,103.79,104.86,105.93,107,107,0,0,0,0,0,0,0,0,0,0,0,0,0,0,0,0,0]
["Pk+1",0,{"$f":"C6+((D6-C6)*(C4-C5))","v":1.7833333333333337},3.5666666666666673,6.42,9.9866666666666699,14.445000000000004,22.470000000000002,31.386666666666677,41.016666666666673,50.825000000000003,60.63333333333334,70.085000000000008,78.11,84.351666666666674,89.880000000000024,93.625,96.300000000000011,98.796666666666681,100.58000000000001,102.36333333333334,103.43333333333334,104.325,105.21666666666667,106.10833333333333,107,17.833333333333087,0,0,0,0,0,0,0,0,0,0,0,0,0,0,0,0,{"$f":"AR6+((AW3-AR6)*(AR4-AR5))","v":0}]
[]
[]
[]
["t/td","1st    ","2nd  ","3rd "," 4th",null,"T","P","P Inter","T","Hietograma"]
[0,{"$f":"IF('Gerar Hietograma'!$E$6=1,Ponto!B3,IF('Gerar Hietograma'!$E$6=2,A10a50!B4,IF('Gerar Hietograma'!$E$6=3,A50a400!B4)))","v":0},{"$f":"IF('Gerar Hietograma'!$E$6=1,Ponto!C3,IF('Gerar Hietograma'!$E$6=2,A10a50!C4,IF('Gerar Hietograma'!$E$6=3,A50a400!C4)))","v":0},{"$f":"IF('Gerar Hietograma'!$E$6=1,Ponto!D3,IF('Gerar Hietograma'!$E$6=2,A10a50!D4,IF('Gerar Hietograma'!$E$6=3,A50a400!D4)))","v":0},{"$f":"IF('Gerar Hietograma'!$E$6=1,Ponto!E3,IF('Gerar Hietograma'!$E$6=2,A10a50!E4,IF('Gerar Hietograma'!$E$6=3,A50a400!E4)))","v":0},1,{"$f":"A12*'Gerar Hietograma'!$F$3","v":0},{"$f":"IF('Gerar Hietograma'!$E$5=1,'Gerar Hietograma'!$F$4/100*B12,IF('Gerar Hietograma'!$E$5=2,'Gerar Hietograma'!$F$4/100*C12,IF('Gerar Hietograma'!$E$5=3,'Gerar Hietograma'!$F$4/100*D12,IF('Gerar Hietograma'!$E$5=4,'Gerar Hietograma'!$F$4/100*E12,0))))","v":0},{"$f":"B$7","v":0},0,{"$f":"0","v":0},null,{"$f":"H12","v":0},0]
[0.05,{"$f":"IF('Gerar Hietograma'!$E$6=1,Ponto!B4,IF('Gerar Hietograma'!$E$6=2,A10a50!B5,IF('Gerar Hietograma'!$E$6=3,A50a400!B5)))","v":8},{"$f":"IF('Gerar Hietograma'!$E$6=1,Ponto!C4,IF('Gerar Hietograma'!$E$6=2,A10a50!C5,IF('Gerar Hietograma'!$E$6=3,A50a400!C5)))","v":2},{"$f":"IF('Gerar Hietograma'!$E$6=1,Ponto!D4,IF('Gerar Hietograma'!$E$6=2,A10a50!D5,IF('Gerar Hietograma'!$E$6=3,A50a400!D5)))","v":2},{"$f":"IF('Gerar Hietograma'!$E$6=1,Ponto!E4,IF('Gerar Hietograma'!$E$6=2,A10a50!E5,IF('Gerar Hietograma'!$E$6=3,A50a400!E5)))","v":2},2,{"$f":"A13*'Gerar Hietograma'!$F$3","v":72},{"$f":"IF('Gerar Hietograma'!$E$5=1,'Gerar Hietograma'!$F$4/100*B13,IF('Gerar Hietograma'!$E$5=2,'Gerar Hietograma'!$F$4/100*C13,IF('Gerar Hietograma'!$E$5=3,'Gerar Hietograma'!$F$4/100*D13,IF('Gerar Hietograma'!$E$5=4,'Gerar Hietograma'!$F$4/100*E13,0))))","v":2.14},{"$f":"C6+((D6-C6)*(C4-C5))","v":1.7833333333333337},{"$f":"'Gerar Hietograma'!$F$3/'Gerar Hietograma'!$F$2*F12","v":60},{"$f":"I13-I12","v":1.7833333333333337},null,{"$f":"InterpolacaoLinear(J13,$G$12:$G$32,$H$12:$H$32)","v":1.7833333333333334},{"$f":"M13-M12","v":1.7833333333333334}]
[0.1,{"$f":"IF('Gerar Hietograma'!$E$6=1,Ponto!B5,IF('Gerar Hietograma'!$E$6=2,A10a50!B6,IF('Gerar Hietograma'!$E$6=3,A50a400!B6)))","v":17},{"$f":"IF('Gerar Hietograma'!$E$6=1,Ponto!C5,IF('Gerar Hietograma'!$E$6=2,A10a50!C6,IF('Gerar Hietograma'!$E$6=3,A50a400!C6)))","v":4},{"$f":"IF('Gerar Hietograma'!$E$6=1,Ponto!D5,IF('Gerar Hietograma'!$E$6=2,A10a50!D6,IF('Gerar Hietograma'!$E$6=3,A50a400!D6)))","v":4},{"$f":"IF('Gerar Hietograma'!$E$6=1,Ponto!E5,IF('Gerar Hietograma'!$E$6=2,A10a50!E6,IF('Gerar Hietograma'!$E$6=3,A50a400!E6)))","v":3},3,{"$f":"A14*'Gerar Hietograma'!$F$3","v":144},{"$f":"IF('Gerar Hietograma'!$E$5=1,'Gerar Hietograma'!$F$4/100*B14,IF('Gerar Hietograma'!$E$5=2,'Gerar Hietograma'!$F$4/100*C14,IF('Gerar Hietograma'!$E$5=3,'Gerar Hietograma'!$F$4/100*D14,IF('Gerar Hietograma'!$E$5=4,'Gerar Hietograma'!$F$4/100*E14,0))))","v":4.28},{"$f":"D6+((E6-D6)*(D4-D5))","v":3.5666666666666673},{"$f":"'Gerar Hietograma'!$F$3/'Gerar Hietograma'!$F$2*F13","v":120},{"$f":"I14-I13","v":1.7833333333333337},null,{"$f":"InterpolacaoLinear(J14,$G$12:$G$32,$H$12:$H$32)","v":3.5666666666666669},{"$f":"M14-M13","v":1.7833333333333334}]
[0.15,{"$f":"IF('Gerar Hietograma'!$E$6=1,Ponto!B6,IF('Gerar Hietograma'!$E$6=2,A10a50!B7,IF('Gerar Hietograma'!$E$6=3,A50a400!B7)))","v":34},{"$f":"IF('Gerar Hietograma'!$E$6=1,Ponto!C6,IF('Gerar Hietograma'!$E$6=2,A10a50!C7,IF('Gerar Hietograma'!$E$6=3,A50a400!C7)))","v":8},{"$f":"IF('Gerar Hietograma'!$E$6=1,Ponto!D6,IF('Gerar Hietograma'!$E$6=2,A10a50!D7,IF('Gerar Hietograma'!$E$6=3,A50a400!D7)))","v":7},{"$f":"IF('Gerar Hietograma'!$E$6=1,Ponto!E6,IF('Gerar Hietograma'!$E$6=2,A10a50!E7,IF('Gerar Hietograma'!$E$6=3,A50a400!E7)))","v":5},4,{"$f":"A15*'Gerar Hietograma'!$F$3","v":216},{"$f":"IF('Gerar Hietograma'!$E$5=1,'Gerar Hietograma'!$F$4/100*B15,IF('Gerar Hietograma'!$E$5=2,'Gerar Hietograma'!$F$4/100*C15,IF('Gerar Hietograma'!$E$5=3,'Gerar Hietograma'!$F$4/100*D15,IF('Gerar Hietograma'!$E$5=4,'Gerar Hietograma'!$F$4/100*E15,0))))","v":8.56},{"$f":"E6+((F6-E6)*(E4-E5))","v":6.42},{"$f":"'Gerar Hietograma'!$F$3/'Gerar Hietograma'!$F$2*F14","v":180},2.8533333333333326,null,{"$f":"InterpolacaoLinear(J15,$G$12:$G$32,$H$12:$H$32)","v":6.42},2.8533333333333331]
[0.2,{"$f":"IF('Gerar Hietograma'!$E$6=1,Ponto!B7,IF('Gerar Hietograma'!$E$6=2,A10a50!B8,IF('Gerar Hietograma'!$E$6=3,A50a400!B8)))","v":50},{"$f":"IF('Gerar Hietograma'!$E$6=1,Ponto!C7,IF('Gerar Hietograma'!$E$6=2,A10a50!C8,IF('Gerar Hietograma'!$E$6=3,A50a400!C8)))","v":12},{"$f":"IF('Gerar Hietograma'!$E$6=1,Ponto!D7,IF('Gerar Hietograma'!$E$6=2,A10a50!D8,IF('Gerar Hietograma'!$E$6=3,A50a400!D8)))","v":10},{"$f":"IF('Gerar Hietograma'!$E$6=1,Ponto!E7,IF('Gerar Hietograma'!$E$6=2,A10a50!E8,IF('Gerar Hietograma'!$E$6=3,A50a400!E8)))","v":7},5,{"$f":"A16*'Gerar Hietograma'!$F$3","v":288},{"$f":"IF('Gerar Hietograma'!$E$5=1,'Gerar Hietograma'!$F$4/100*B16,IF('Gerar Hietograma'!$E$5=2,'Gerar Hietograma'!$F$4/100*C16,IF('Gerar Hietograma'!$E$5=3,'Gerar Hietograma'!$F$4/100*D16,IF('Gerar Hietograma'!$E$5=4,'Gerar Hietograma'!$F$4/100*E16,0))))","v":12.84},{"$f":"F6+((G6-F6)*(F4-F5))","v":9.9866666666666699},{"$f":"'Gerar Hietograma'!$F$3/'Gerar Hietograma'!$F$2*F15","v":240},3.56666666666667,null,{"$f":"InterpolacaoLinear(J16,$G$12:$G$32,$H$12:$H$32)","v":9.9866666666666664},3.5666666666666664]
[0.25,{"$f":"IF('Gerar Hietograma'!$E$6=1,Ponto!B8,IF('Gerar Hietograma'!$E$6=2,A10a50!B9,IF('Gerar Hietograma'!$E$6=3,A50a400!B9)))","v":63},{"$f":"IF('Gerar Hietograma'!$E$6=1,Ponto!C8,IF('Gerar Hietograma'!$E$6=2,A10a50!C9,IF('Gerar Hietograma'!$E$6=3,A50a400!C9)))","v":21},{"$f":"IF('Gerar Hietograma'!$E$6=1,Ponto!D8,IF('Gerar Hietograma'!$E$6=2,A10a50!D9,IF('Gerar Hietograma'!$E$6=3,A50a400!D9)))","v":12},{"$f":"IF('Gerar Hietograma'!$E$6=1,Ponto!E8,IF('Gerar Hietograma'!$E$6=2,A10a50!E9,IF('Gerar Hietograma'!$E$6=3,A50a400!E9)))","v":9},6,{"$f":"A17*'Gerar Hietograma'!$F$3","v":360},{"$f":"IF('Gerar Hietograma'!$E$5=1,'Gerar Hietograma'!$F$4/100*B17,IF('Gerar Hietograma'!$E$5=2,'Gerar Hietograma'!$F$4/100*C17,IF('Gerar Hietograma'!$E$5=3,'Gerar Hietograma'!$F$4/100*D17,IF('Gerar Hietograma'!$E$5=4,'Gerar Hietograma'!$F$4/100*E17,0))))","v":22.470000000000002},{"$f":"G6+((H6-G6)*(G4-G5))","v":14.445000000000004},{"$f":"'Gerar Hietograma'!$F$3/'Gerar Hietograma'!$F$2*F16","v":300},4.4583333333333339,null,{"$f":"InterpolacaoLinear(J17,$G$12:$G$32,$H$12:$H$32)","v":14.445},4.4583333333333339]
[0.3,{"$f":"IF('Gerar Hietograma'!$E$6=1,Ponto!B9,IF('Gerar Hietograma'!$E$6=2,A10a50!B10,IF('Gerar Hietograma'!$E$6=3,A50a400!B10)))","v":71},{"$f":"IF('Gerar Hietograma'!$E$6=1,Ponto!C9,IF('Gerar Hietograma'!$E$6=2,A10a50!C10,IF('Gerar Hietograma'!$E$6=3,A50a400!C10)))","v":31},{"$f":"IF('Gerar Hietograma'!$E$6=1,Ponto!D9,IF('Gerar Hietograma'!$E$6=2,A10a50!D10,IF('Gerar Hietograma'!$E$6=3,A50a400!D10)))","v":14},{"$f":"IF('Gerar Hietograma'!$E$6=1,Ponto!E9,IF('Gerar Hietograma'!$E$6=2,A10a50!E10,IF('Gerar Hietograma'!$E$6=3,A50a400!E10)))","v":10},7,{"$f":"A18*'Gerar Hietograma'!$F$3","v":432},{"$f":"IF('Gerar Hietograma'!$E$5=1,'Gerar Hietograma'!$F$4/100*B18,IF('Gerar Hietograma'!$E$5=2,'Gerar Hietograma'!$F$4/100*C18,IF('Gerar Hietograma'!$E$5=3,'Gerar Hietograma'!$F$4/100*D18,IF('Gerar Hietograma'!$E$5=4,'Gerar Hietograma'!$F$4/100*E18,0))))","v":33.17},{"$f":"H6+((I6-H6)*(H4-H5))","v":22.470000000000002},{"$f":"'Gerar Hietograma'!$F$3/'Gerar Hietograma'!$F$2*F17","v":360},8.0249999999999986,null,{"$f":"InterpolacaoLinear(J18,$G$12:$G$32,$H$12:$H$32)","v":22.470000000000002},8.0250000000000021]
[0.35,{"$f":"IF('Gerar Hietograma'!$E$6=1,Ponto!B10,IF('Gerar Hietograma'!$E$6=2,A10a50!B11,IF('Gerar Hietograma'!$E$6=3,A50a400!B11)))","v":76},{"$f":"IF('Gerar Hietograma'!$E$6=1,Ponto!C10,IF('Gerar Hietograma'!$E$6=2,A10a50!C11,IF('Gerar Hietograma'!$E$6=3,A50a400!C11)))","v":42},{"$f":"IF('Gerar Hietograma'!$E$6=1,Ponto!D10,IF('Gerar Hietograma'!$E$6=2,A10a50!D11,IF('Gerar Hietograma'!$E$6=3,A50a400!D11)))","v":16},{"$f":"IF('Gerar Hietograma'!$E$6=1,Ponto!E10,IF('Gerar Hietograma'!$E$6=2,A10a50!E11,IF('Gerar Hietograma'!$E$6=3,A50a400!E11)))","v":12},8,{"$f":"A19*'Gerar Hietograma'!$F$3","v":503.99999999999994},{"$f":"IF('Gerar Hietograma'!$E$5=1,'Gerar Hietograma'!$F$4/100*B19,IF('Gerar Hietograma'!$E$5=2,'Gerar Hietograma'!$F$4/100*C19,IF('Gerar Hietograma'!$E$5=3,'Gerar Hietograma'!$F$4/100*D19,IF('Gerar Hietograma'!$E$5=4,'Gerar Hietograma'!$F$4/100*E19,0))))","v":44.940000000000005},{"$f":"I6+((J6-I6)*(I4-I5))","v":31.386666666666677},{"$f":"'Gerar Hietograma'!$F$3/'Gerar Hietograma'!$F$2*F18","v":420},8.916666666666675,null,{"$f":"InterpolacaoLinear(J19,$G$12:$G$32,$H$12:$H$32)","v":31.38666666666667},8.9166666666666679]
[0.4,{"$f":"IF('Gerar Hietograma'!$E$6=1,Ponto!B11,IF('Gerar Hietograma'!$E$6=2,A10a50!B12,IF('Gerar Hietograma'!$E$6=3,A50a400!B12)))","v":80},{"$f":"IF('Gerar Hietograma'!$E$6=1,Ponto!C11,IF('Gerar Hietograma'!$E$6=2,A10a50!C12,IF('Gerar Hietograma'!$E$6=3,A50a400!C12)))","v":53},{"$f":"IF('Gerar Hietograma'!$E$6=1,Ponto!D11,IF('Gerar Hietograma'!$E$6=2,A10a50!D12,IF('Gerar Hietograma'!$E$6=3,A50a400!D12)))","v":19},{"$f":"IF('Gerar Hietograma'!$E$6=1,Ponto!E11,IF('Gerar Hietograma'!$E$6=2,A10a50!E12,IF('Gerar Hietograma'!$E$6=3,A50a400!E12)))","v":14},9,{"$f":"A20*'Gerar Hietograma'!$F$3","v":576},{"$f":"IF('Gerar Hietograma'!$E$5=1,'Gerar Hietograma'!$F$4/100*B20,IF('Gerar Hietograma'!$E$5=2,'Gerar Hietograma'!$F$4/100*C20,IF('Gerar Hietograma'!$E$5=3,'Gerar Hietograma'!$F$4/100*D20,IF('Gerar Hietograma'!$E$5=4,'Gerar Hietograma'!$F$4/100*E20,0))))","v":56.71},{"$f":"J6+((K6-J6)*(J4-J5))","v":41.016666666666673},{"$f":"'Gerar Hietograma'!$F$3/'Gerar Hietograma'!$F$2*F19","v":480},9.6299999999999955,null,{"$f":"InterpolacaoLinear(J20,$G$12:$G$32,$H$12:$H$32)","v":41.01666666666668},9.6300000000000097]
[0.45,{"$f":"IF('Gerar Hietograma'!$E$6=1,Ponto!B12,IF('Gerar Hietograma'!$E$6=2,A10a50!B13,IF('Gerar Hietograma'!$E$6=3,A50a400!B13)))","v":83},{"$f":"IF('Gerar Hietograma'!$E$6=1,Ponto!C12,IF('Gerar Hietograma'!$E$6=2,A10a50!C13,IF('Gerar Hietograma'!$E$6=3,A50a400!C13)))","v":64},{"$f":"IF('Gerar Hietograma'!$E$6=1,Ponto!D12,IF('Gerar Hietograma'!$E$6=2,A10a50!D13,IF('Gerar Hietograma'!$E$6=3,A50a400!D13)))","v":22},{"$f":"IF('Gerar Hietograma'!$E$6=1,Ponto!E12,IF('Gerar Hietograma'!$E$6=2,A10a50!E13,IF('Gerar Hietograma'!$E$6=3,A50a400!E13)))","v":16},10,{"$f":"A21*'Gerar Hietograma'!$F$3","v":648},{"$f":"IF('Gerar Hietograma'!$E$5=1,'Gerar Hietograma'!$F$4/100*B21,IF('Gerar Hietograma'!$E$5=2,'Gerar Hietograma'!$F$4/100*C21,IF('Gerar Hietograma'!$E$5=3,'Gerar Hietograma'!$F$4/100*D21,IF('Gerar Hietograma'!$E$5=4,'Gerar Hietograma'!$F$4/100*E21,0))))","v":68.48},{"$f":"K6+((L6-K6)*(K4-K5))","v":50.825000000000003},{"$f":"'Gerar Hietograma'!$F$3/'Gerar Hietograma'!$F$2*F20","v":540},9.80833333333333,null,{"$f":"InterpolacaoLinear(J21,$G$12:$G$32,$H$12:$H$32)","v":50.82500000000001},9.80833333333333]
[0.5,{"$f":"IF('Gerar Hietograma'!$E$6=1,Ponto!B13,IF('Gerar Hietograma'!$E$6=2,A10a50!B14,IF('Gerar Hietograma'!$E$6=3,A50a400!B14)))","v":86},{"$f":"IF('Gerar Hietograma'!$E$6=1,Ponto!C13,IF('Gerar Hietograma'!$E$6=2,A10a50!C14,IF('Gerar Hietograma'!$E$6=3,A50a400!C14)))","v":73},{"$f":"IF('Gerar Hietograma'!$E$6=1,Ponto!D13,IF('Gerar Hietograma'!$E$6=2,A10a50!D14,IF('Gerar Hietograma'!$E$6=3,A50a400!D14)))","v":29},{"$f":"IF('Gerar Hietograma'!$E$6=1,Ponto!E13,IF('Gerar Hietograma'!$E$6=2,A10a50!E14,IF('Gerar Hietograma'!$E$6=3,A50a400!E14)))","v":19},11,{"$f":"A22*'Gerar Hietograma'!$F$3","v":720},{"$f":"IF('Gerar Hietograma'!$E$5=1,'Gerar Hietograma'!$F$4/100*B22,IF('Gerar Hietograma'!$E$5=2,'Gerar Hietograma'!$F$4/100*C22,IF('Gerar Hietograma'!$E$5=3,'Gerar Hietograma'!$F$4/100*D22,IF('Gerar Hietograma'!$E$5=4,'Gerar Hietograma'!$F$4/100*E22,0))))","v":78.11},{"$f":"L6+((M6-L6)*(L4-L5))","v":60.63333333333334},{"$f":"'Gerar Hietograma'!$F$3/'Gerar Hietograma'!$F$2*F21","v":600},9.8083333333333371,null,{"$f":"InterpolacaoLinear(J22,$G$12:$G$32,$H$12:$H$32)","v":60.633333333333333},9.8083333333333229]
[0.55000000000000004,{"$f":"IF('Gerar Hietograma'!$E$6=1,Ponto!B14,IF('Gerar Hietograma'!$E$6=2,A10a50!B15,IF('Gerar Hietograma'!$E$6=3,A50a400!B15)))","v":88},{"$f":"IF('Gerar Hietograma'!$E$6=1,Ponto!C14,IF('Gerar Hietograma'!$E$6=2,A10a50!C15,IF('Gerar Hietograma'!$E$6=3,A50a400!C15)))","v":80},{"$f":"IF('Gerar Hietograma'!$E$6=1,Ponto!D14,IF('Gerar Hietograma'!$E$6=2,A10a50!D15,IF('Gerar Hietograma'!$E$6=3,A50a400!D15)))","v":39},{"$f":"IF('Gerar Hietograma'!$E$6=1,Ponto!E14,IF('Gerar Hietograma'!$E$6=2,A10a50!E15,IF('Gerar Hietograma'!$E$6=3,A50a400!E15)))","v":21},12,{"$f":"A23*'Gerar Hietograma'!$F$3","v":792.00000000000011},{"$f":"IF('Gerar Hietograma'!$E$5=1,'Gerar Hietograma'!$F$4/100*B23,IF('Gerar Hietograma'!$E$5=2,'Gerar Hietograma'!$F$4/100*C23,IF('Gerar Hietograma'!$E$5=3,'Gerar Hietograma'!$F$4/100*D23,IF('Gerar Hietograma'!$E$5=4,'Gerar Hietograma'!$F$4/100*E23,0))))","v":85.600000000000009},{"$f":"M6+((N6-M6)*(M4-M5))","v":70.085000000000008},{"$f":"'Gerar Hietograma'!$F$3/'Gerar Hietograma'!$F$2*F22","v":660},9.451666666666668,null,{"$f":"InterpolacaoLinear(J23,$G$12:$G$32,$H$12:$H$32)","v":70.085000000000008},9.4516666666666751]
[0.6,{"$f":"IF('Gerar Hietograma'!$E$6=1,Ponto!B15,IF('Gerar Hietograma'!$E$6=2,A10a50!B16,IF('Gerar Hietograma'!$E$6=3,A50a400!B16)))","v":90},{"$f":"IF('Gerar Hietograma'!$E$6=1,Ponto!C15,IF('Gerar Hietograma'!$E$6=2,A10a50!C16,IF('Gerar Hietograma'!$E$6=3,A50a400!C16)))","v":86},{"$f":"IF('Gerar Hietograma'!$E$6=1,Ponto!D15,IF('Gerar Hietograma'!$E$6=2,A10a50!D16,IF('Gerar Hietograma'!$E$6=3,A50a400!D16)))","v":54},{"$f":"IF('Gerar Hietograma'!$E$6=1,Ponto!E15,IF('Gerar Hietograma'!$E$6=2,A10a50!E16,IF('Gerar Hietograma'!$E$6=3,A50a400!E16)))","v":25},13,{"$f":"A24*'Gerar Hietograma'!$F$3","v":864},{"$f":"IF('Gerar Hietograma'!$E$5=1,'Gerar Hietograma'!$F$4/100*B24,IF('Gerar Hietograma'!$E$5=2,'Gerar Hietograma'!$F$4/100*C24,IF('Gerar Hietograma'!$E$5=3,'Gerar Hietograma'!$F$4/100*D24,IF('Gerar Hietograma'!$E$5=4,'Gerar Hietograma'!$F$4/100*E24,0))))","v":92.02000000000001},{"$f":"N6+((O6-N6)*(N4-N5))","v":78.11},{"$f":"'Gerar Hietograma'!$F$3/'Gerar Hietograma'!$F$2*F23","v":720},8.0249999999999915,null,{"$f":"InterpolacaoLinear(J24,$G$12:$G$32,$H$12:$H$32)","v":78.11},8.0249999999999915]
[0.65,{"$f":"IF('Gerar Hietograma'!$E$6=1,Ponto!B16,IF('Gerar Hietograma'!$E$6=2,A10a50!B17,IF('Gerar Hietograma'!$E$6=3,A50a400!B17)))","v":92},{"$f":"IF('Gerar Hietograma'!$E$6=1,Ponto!C16,IF('Gerar Hietograma'!$E$6=2,A10a50!C17,IF('Gerar Hietograma'!$E$6=3,A50a400!C17)))","v":89},{"$f":"IF('Gerar Hietograma'!$E$6=1,Ponto!D16,IF('Gerar Hietograma'!$E$6=2,A10a50!D17,IF('Gerar Hietograma'!$E$6=3,A50a400!D17)))","v":68},{"$f":"IF('Gerar Hietograma'!$E$6=1,Ponto!E16,IF('Gerar Hietograma'!$E$6=2,A10a50!E17,IF('Gerar Hietograma'!$E$6=3,A50a400!E17)))","v":29},14,{"$f":"A25*'Gerar Hietograma'!$F$3","v":936},{"$f":"IF('Gerar Hietograma'!$E$5=1,'Gerar Hietograma'!$F$4/100*B25,IF('Gerar Hietograma'!$E$5=2,'Gerar Hietograma'!$F$4/100*C25,IF('Gerar Hietograma'!$E$5=3,'Gerar Hietograma'!$F$4/100*D25,IF('Gerar Hietograma'!$E$5=4,'Gerar Hietograma'!$F$4/100*E25,0))))","v":95.23},{"$f":"O6+((P6-O6)*(O4-O5))","v":84.351666666666674},{"$f":"'Gerar Hietograma'!$F$3/'Gerar Hietograma'!$F$2*F24","v":780},6.2416666666666742,null,{"$f":"InterpolacaoLinear(J25,$G$12:$G$32,$H$12:$H$32)","v":84.351666666666659},6.24166666666666]
[0.7,{"$f":"IF('Gerar Hietograma'!$E$6=1,Ponto!B17,IF('Gerar Hietograma'!$E$6=2,A10a50!B18,IF('Gerar Hietograma'!$E$6=3,A50a400!B18)))","v":93},{"$f":"IF('Gerar Hietograma'!$E$6=1,Ponto!C17,IF('Gerar Hietograma'!$E$6=2,A10a50!C18,IF('Gerar Hietograma'!$E$6=3,A50a400!C18)))","v":92},{"$f":"IF('Gerar Hietograma'!$E$6=1,Ponto!D17,IF('Gerar Hietograma'!$E$6=2,A10a50!D18,IF('Gerar Hietograma'!$E$6=3,A50a400!D18)))","v":79},{"$f":"IF('Gerar Hietograma'!$E$6=1,Ponto!E17,IF('Gerar Hietograma'!$E$6=2,A10a50!E18,IF('Gerar Hietograma'!$E$6=3,A50a400!E18)))","v":35},15,{"$f":"A26*'Gerar Hietograma'!$F$3","v":1007.9999999999999},{"$f":"IF('Gerar Hietograma'!$E$5=1,'Gerar Hietograma'!$F$4/100*B26,IF('Gerar Hietograma'!$E$5=2,'Gerar Hietograma'!$F$4/100*C26,IF('Gerar Hietograma'!$E$5=3,'Gerar Hietograma'!$F$4/100*D26,IF('Gerar Hietograma'!$E$5=4,'Gerar Hietograma'!$F$4/100*E26,0))))","v":98.440000000000012},{"$f":"P6+((Q6-P6)*(P4-P5))","v":89.880000000000024},{"$f":"'Gerar Hietograma'!$F$3/'Gerar Hietograma'!$F$2*F25","v":840},5.5283333333333502,null,{"$f":"InterpolacaoLinear(J26,$G$12:$G$32,$H$12:$H$32)","v":89.88000000000001},5.5283333333333502]
[0.75,{"$f":"IF('Gerar Hietograma'!$E$6=1,Ponto!B18,IF('Gerar Hietograma'!$E$6=2,A10a50!B19,IF('Gerar Hietograma'!$E$6=3,A50a400!B19)))","v":95},{"$f":"IF('Gerar Hietograma'!$E$6=1,Ponto!C18,IF('Gerar Hietograma'!$E$6=2,A10a50!C19,IF('Gerar Hietograma'!$E$6=3,A50a400!C19)))","v":94},{"$f":"IF('Gerar Hietograma'!$E$6=1,Ponto!D18,IF('Gerar Hietograma'!$E$6=2,A10a50!D19,IF('Gerar Hietograma'!$E$6=3,A50a400!D19)))","v":87},{"$f":"IF('Gerar Hietograma'!$E$6=1,Ponto!E18,IF('Gerar Hietograma'!$E$6=2,A10a50!E19,IF('Gerar Hietograma'!$E$6=3,A50a400!E19)))","v":43},16,{"$f":"A27*'Gerar Hietograma'!$F$3","v":1080},{"$f":"IF('Gerar Hietograma'!$E$5=1,'Gerar Hietograma'!$F$4/100*B27,IF('Gerar Hietograma'!$E$5=2,'Gerar Hietograma'!$F$4/100*C27,IF('Gerar Hietograma'!$E$5=3,'Gerar Hietograma'!$F$4/100*D27,IF('Gerar Hietograma'!$E$5=4,'Gerar Hietograma'!$F$4/100*E27,0))))","v":100.58000000000001},{"$f":"Q6+((R6-Q6)*(Q4-Q5))","v":93.625},{"$f":"'Gerar Hietograma'!$F$3/'Gerar Hietograma'!$F$2*F26","v":900},3.7449999999999761,null,{"$f":"InterpolacaoLinear(J27,$G$12:$G$32,$H$12:$H$32)","v":93.625},3.7449999999999903]
[0.8,{"$f":"IF('Gerar Hietograma'!$E$6=1,Ponto!B19,IF('Gerar Hietograma'!$E$6=2,A10a50!B20,IF('Gerar Hietograma'!$E$6=3,A50a400!B20)))","v":96},{"$f":"IF('Gerar Hietograma'!$E$6=1,Ponto!C19,IF('Gerar Hietograma'!$E$6=2,A10a50!C20,IF('Gerar Hietograma'!$E$6=3,A50a400!C20)))","v":96},{"$f":"IF('Gerar Hietograma'!$E$6=1,Ponto!D19,IF('Gerar Hietograma'!$E$6=2,A10a50!D20,IF('Gerar Hietograma'!$E$6=3,A50a400!D20)))","v":92},{"$f":"IF('Gerar Hietograma'!$E$6=1,Ponto!E19,IF('Gerar Hietograma'!$E$6=2,A10a50!E20,IF('Gerar Hietograma'!$E$6=3,A50a400!E20)))","v":54},17,{"$f":"A28*'Gerar Hietograma'!$F$3","v":1152},{"$f":"IF('Gerar Hietograma'!$E$5=1,'Gerar Hietograma'!$F$4/100*B28,IF('Gerar Hietograma'!$E$5=2,'Gerar Hietograma'!$F$4/100*C28,IF('Gerar Hietograma'!$E$5=3,'Gerar Hietograma'!$F$4/100*D28,IF('Gerar Hietograma'!$E$5=4,'Gerar Hietograma'!$F$4/100*E28,0))))","v":102.72},{"$f":"R6+((S6-R6)*(R4-R5))","v":96.300000000000011},{"$f":"'Gerar Hietograma'!$F$3/'Gerar Hietograma'!$F$2*F27","v":960},2.6750000000000114,null,{"$f":"InterpolacaoLinear(J28,$G$12:$G$32,$H$12:$H$32)","v":96.300000000000011},2.6750000000000114]
[0.85,{"$f":"IF('Gerar Hietograma'!$E$6=1,Ponto!B20,IF('Gerar Hietograma'!$E$6=2,A10a50!B21,IF('Gerar Hietograma'!$E$6=3,A50a400!B21)))","v":97},{"$f":"IF('Gerar Hietograma'!$E$6=1,Ponto!C20,IF('Gerar Hietograma'!$E$6=2,A10a50!C21,IF('Gerar Hietograma'!$E$6=3,A50a400!C21)))","v":97},{"$f":"IF('Gerar Hietograma'!$E$6=1,Ponto!D20,IF('Gerar Hietograma'!$E$6=2,A10a50!D21,IF('Gerar Hietograma'!$E$6=3,A50a400!D21)))","v":95},{"$f":"IF('Gerar Hietograma'!$E$6=1,Ponto!E20,IF('Gerar Hietograma'!$E$6=2,A10a50!E21,IF('Gerar Hietograma'!$E$6=3,A50a400!E21)))","v":75},18,{"$f":"A29*'Gerar Hietograma'!$F$3","v":1224},{"$f":"IF('Gerar Hietograma'!$E$5=1,'Gerar Hietograma'!$F$4/100*B29,IF('Gerar Hietograma'!$E$5=2,'Gerar Hietograma'!$F$4/100*C29,IF('Gerar Hietograma'!$E$5=3,'Gerar Hietograma'!$F$4/100*D29,IF('Gerar Hietograma'!$E$5=4,'Gerar Hietograma'!$F$4/100*E29,0))))","v":103.79},{"$f":"S6+((T6-S6)*(S4-S5))","v":98.796666666666681},{"$f":"'Gerar Hietograma'!$F$3/'Gerar Hietograma'!$F$2*F28","v":1020},2.4966666666666697,null,{"$f":"InterpolacaoLinear(J29,$G$12:$G$32,$H$12:$H$32)","v":98.796666666666681},2.4966666666666697]
[0.9,{"$f":"IF('Gerar Hietograma'!$E$6=1,Ponto!B21,IF('Gerar Hietograma'!$E$6=2,A10a50!B22,IF('Gerar Hietograma'!$E$6=3,A50a400!B22)))","v":98},{"$f":"IF('Gerar Hietograma'!$E$6=1,Ponto!C21,IF('Gerar Hietograma'!$E$6=2,A10a50!C22,IF('Gerar Hietograma'!$E$6=3,A50a400!C22)))","v":98},{"$f":"IF('Gerar Hietograma'!$E$6=1,Ponto!D21,IF('Gerar Hietograma'!$E$6=2,A10a50!D22,IF('Gerar Hietograma'!$E$6=3,A50a400!D22)))","v":97},{"$f":"IF('Gerar Hietograma'!$E$6=1,Ponto!E21,IF('Gerar Hietograma'!$E$6=2,A10a50!E22,IF('Gerar Hietograma'!$E$6=3,A50a400!E22)))","v":92},19,{"$f":"A30*'Gerar Hietograma'!$F$3","v":1296},{"$f":"IF('Gerar Hietograma'!$E$5=1,'Gerar Hietograma'!$F$4/100*B30,IF('Gerar Hietograma'!$E$5=2,'Gerar Hietograma'!$F$4/100*C30,IF('Gerar Hietograma'!$E$5=3,'Gerar Hietograma'!$F$4/100*D30,IF('Gerar Hietograma'!$E$5=4,'Gerar Hietograma'!$F$4/100*E30,0))))","v":104.86},{"$f":"T6+((U6-T6)*(T4-T5))","v":100.58000000000001},{"$f":"'Gerar Hietograma'!$F$3/'Gerar Hietograma'!$F$2*F29","v":1080},1.7833333333333314,null,{"$f":"InterpolacaoLinear(J30,$G$12:$G$32,$H$12:$H$32)","v":100.58000000000001},1.7833333333333314]
[0.95,{"$f":"IF('Gerar Hietograma'!$E$6=1,Ponto!B22,IF('Gerar Hietograma'!$E$6=2,A10a50!B23,IF('Gerar Hietograma'!$E$6=3,A50a400!B23)))","v":99},{"$f":"IF('Gerar Hietograma'!$E$6=1,Ponto!C22,IF('Gerar Hietograma'!$E$6=2,A10a50!C23,IF('Gerar Hietograma'!$E$6=3,A50a400!C23)))","v":99},{"$f":"IF('Gerar Hietograma'!$E$6=1,Ponto!D22,IF('Gerar Hietograma'!$E$6=2,A10a50!D23,IF('Gerar Hietograma'!$E$6=3,A50a400!D23)))","v":99},{"$f":"IF('Gerar Hietograma'!$E$6=1,Ponto!E22,IF('Gerar Hietograma'!$E$6=2,A10a50!E23,IF('Gerar Hietograma'!$E$6=3,A50a400!E23)))","v":97},20,{"$f":"A31*'Gerar Hietograma'!$F$3","v":1368},{"$f":"IF('Gerar Hietograma'!$E$5=1,'Gerar Hietograma'!$F$4/100*B31,IF('Gerar Hietograma'!$E$5=2,'Gerar Hietograma'!$F$4/100*C31,IF('Gerar Hietograma'!$E$5=3,'Gerar Hietograma'!$F$4/100*D31,IF('Gerar Hietograma'!$E$5=4,'Gerar Hietograma'!$F$4/100*E31,0))))","v":105.93},{"$f":"U6+((V6-U6)*(U4-U5))","v":102.36333333333334},{"$f":"'Gerar Hietograma'!$F$3/'Gerar Hietograma'!$F$2*F30","v":1140},1.7833333333333314,null,{"$f":"InterpolacaoLinear(J31,$G$12:$G$32,$H$12:$H$32)","v":102.36333333333333},1.7833333333333172]
[1,{"$f":"IF('Gerar Hietograma'!$E$6=1,Ponto!B23,IF('Gerar Hietograma'!$E$6=2,A10a50!B24,IF('Gerar Hietograma'!$E$6=3,A50a400!B24)))","v":100},{"$f":"IF('Gerar Hietograma'!$E$6=1,Ponto!C23,IF('Gerar Hietograma'!$E$6=2,A10a50!C24,IF('Gerar Hietograma'!$E$6=3,A50a400!C24)))","v":100},{"$f":"IF('Gerar Hietograma'!$E$6=1,Ponto!D23,IF('Gerar Hietograma'!$E$6=2,A10a50!D24,IF('Gerar Hietograma'!$E$6=3,A50a400!D24)))","v":100},{"$f":"IF('Gerar Hietograma'!$E$6=1,Ponto!E23,IF('Gerar Hietograma'!$E$6=2,A10a50!E24,IF('Gerar Hietograma'!$E$6=3,A50a400!E24)))","v":100},21,{"$f":"A32*'Gerar Hietograma'!$F$3","v":1440},{"$f":"IF('Gerar Hietograma'!$E$5=1,'Gerar Hietograma'!$F$4/100*B32,IF('Gerar Hietograma'!$E$5=2,'Gerar Hietograma'!$F$4/100*C32,IF('Gerar Hietograma'!$E$5=3,'Gerar Hietograma'!$F$4/100*D32,IF('Gerar Hietograma'!$E$5=4,'Gerar Hietograma'!$F$4/100*E32,0))))","v":107},{"$f":"V6+((W6-V6)*(V4-V5))","v":103.43333333333334},{"$f":"'Gerar Hietograma'!$F$3/'Gerar Hietograma'!$F$2*F31","v":1200},1.0699999999999932,null,{"$f":"InterpolacaoLinear(J32,$G$12:$G$32,$H$12:$H$32)","v":103.43333333333334},1.0700000000000074]
[null,null,null,null,null,22,0,{"$f":"IF('Gerar Hietograma'!$E$5=1,'Gerar Hietograma'!$F$4/100*B33,IF('Gerar Hietograma'!$E$5=2,'Gerar Hietograma'!$F$4/100*C33,IF('Gerar Hietograma'!$E$5=3,'Gerar Hietograma'!$F$4/100*D33,IF('Gerar Hietograma'!$E$5=4,'Gerar Hietograma'!$F$4/100*E33,0))))","v":0},{"$f":"W6+((X6-W6)*(W4-W5))","v":104.325},{"$f":"'Gerar Hietograma'!$F$3/'Gerar Hietograma'!$F$2*F32","v":1260},0.89166666666666572,null,{"$f":"InterpolacaoLinear(J33,$G$12:$G$32,$H$12:$H$32)","v":104.325},0.89166666666666572]
["1st",null,null,null,null,23,0,{"$f":"IF('Gerar Hietograma'!$E$5=1,'Gerar Hietograma'!$F$4/100*B34,IF('Gerar Hietograma'!$E$5=2,'Gerar Hietograma'!$F$4/100*C34,IF('Gerar Hietograma'!$E$5=3,'Gerar Hietograma'!$F$4/100*D34,IF('Gerar Hietograma'!$E$5=4,'Gerar Hietograma'!$F$4/100*E34,0))))","v":0},{"$f":"X6+((Y6-X6)*(X4-X5))","v":105.21666666666667},{"$f":"'Gerar Hietograma'!$F$3/'Gerar Hietograma'!$F$2*F33","v":1320},0.89166666666666572,null,{"$f":"InterpolacaoLinear(J34,$G$12:$G$32,$H$12:$H$32)","v":105.21666666666667},0.89166666666666572]
["2nd",null,null,null,null,24,0,{"$f":"IF('Gerar Hietograma'!$E$5=1,'Gerar Hietograma'!$F$4/100*B35,IF('Gerar Hietograma'!$E$5=2,'Gerar Hietograma'!$F$4/100*C35,IF('Gerar Hietograma'!$E$5=3,'Gerar Hietograma'!$F$4/100*D35,IF('Gerar Hietograma'!$E$5=4,'Gerar Hietograma'!$F$4/100*E35,0))))","v":0},{"$f":"Y6+((Z6-Y6)*(Y4-Y5))","v":106.10833333333333},{"$f":"'Gerar Hietograma'!$F$3/'Gerar Hietograma'!$F$2*F34","v":1380},0.89166666666666572,null,{"$f":"InterpolacaoLinear(J35,$G$12:$G$32,$H$12:$H$32)","v":106.10833333333333},0.89166666666666572]
["3rd",null,null,null,null,25,0,{"$f":"IF('Gerar Hietograma'!$E$5=1,'Gerar Hietograma'!$F$4/100*B36,IF('Gerar Hietograma'!$E$5=2,'Gerar Hietograma'!$F$4/100*C36,IF('Gerar Hietograma'!$E$5=3,'Gerar Hietograma'!$F$4/100*D36,IF('Gerar Hietograma'!$E$5=4,'Gerar Hietograma'!$F$4/100*E36,0))))","v":0},{"$f":"Z6+((AA6-Z6)*(Z4-Z5))","v":107},{"$f":"'Gerar Hietograma'!$F$3/'Gerar Hietograma'!$F$2*F35","v":1440},0.89166666666666572,null,{"$f":"InterpolacaoLinear(J36,$G$12:$G$32,$H$12:$H$32)","v":107},0.89166666666666572]
["4th",null,null,null,null,26,0,{"$f":"IF('Gerar Hietograma'!$E$5=1,'Gerar Hietograma'!$F$4/100*B37,IF('Gerar Hietograma'!$E$5=2,'Gerar Hietograma'!$F$4/100*C37,IF('Gerar Hietograma'!$E$5=3,'Gerar Hietograma'!$F$4/100*D37,IF('Gerar Hietograma'!$E$5=4,'Gerar Hietograma'!$F$4/100*E37,0))))","v":0},{"$f":"AA6+((AB6-AA6)*(AA4-AA5))","v":17.833333333333087},{"$f":"'Gerar Hietograma'!$F$3/'Gerar Hietograma'!$F$2*F36","v":1500},-89.166666666666913,null,{"$f":"InterpolacaoLinear(J37,$G$12:$G$32,$H$12:$H$32)","v":107},0]
[null,null,null,null,null,27,0,{"$f":"IF('Gerar Hietograma'!$E$5=1,'Gerar Hietograma'!$F$4/100*B38,IF('Gerar Hietograma'!$E$5=2,'Gerar Hietograma'!$F$4/100*C38,IF('Gerar Hietograma'!$E$5=3,'Gerar Hietograma'!$F$4/100*D38,IF('Gerar Hietograma'!$E$5=4,'Gerar Hietograma'!$F$4/100*E38,0))))","v":0},{"$f":"AB6+((AC6-AB6)*(AB4-AB5))","v":0},{"$f":"'Gerar Hietograma'!$F$3/'Gerar Hietograma'!$F$2*F37","v":1560},-17.833333333333087,null,{"$f":"InterpolacaoLinear(J38,$G$12:$G$32,$H$12:$H$32)","v":107},0]
["Ponto",null,null,null,null,28,0,{"$f":"IF('Gerar Hietograma'!$E$5=1,'Gerar Hietograma'!$F$4/100*B39,IF('Gerar Hietograma'!$E$5=2,'Gerar Hietograma'!$F$4/100*C39,IF('Gerar Hietograma'!$E$5=3,'Gerar Hietograma'!$F$4/100*D39,IF('Gerar Hietograma'!$E$5=4,'Gerar Hietograma'!$F$4/100*E39,0))))","v":0},{"$f":"AC6+((AD6-AC6)*(AC4-AC5))","v":0},{"$f":"'Gerar Hietograma'!$F$3/'Gerar Hietograma'!$F$2*F38","v":1620},0,null,{"$f":"InterpolacaoLinear(J39,$G$12:$G$32,$H$12:$H$32)","v":107},0]
["Área 10 a 50",null,null,null,null,29,0,{"$f":"IF('Gerar Hietograma'!$E$5=1,'Gerar Hietograma'!$F$4/100*B40,IF('Gerar Hietograma'!$E$5=2,'Gerar Hietograma'!$F$4/100*C40,IF('Gerar Hietograma'!$E$5=3,'Gerar Hietograma'!$F$4/100*D40,IF('Gerar Hietograma'!$E$5=4,'Gerar Hietograma'!$F$4/100*E40,0))))","v":0},{"$f":"AD6+((AE6-AD6)*(AD4-AD5))","v":0},{"$f":"'Gerar Hietograma'!$F$3/'Gerar Hietograma'!$F$2*F39","v":1680},0,null,{"$f":"InterpolacaoLinear(J40,$G$12:$G$32,$H$12:$H$32)","v":107},0]
["Área 50 a 400",null,null,null,null,30,0,{"$f":"IF('Gerar Hietograma'!$E$5=1,'Gerar Hietograma'!$F$4/100*B41,IF('Gerar Hietograma'!$E$5=2,'Gerar Hietograma'!$F$4/100*C41,IF('Gerar Hietograma'!$E$5=3,'Gerar Hietograma'!$F$4/100*D41,IF('Gerar Hietograma'!$E$5=4,'Gerar Hietograma'!$F$4/100*E41,0))))","v":0},{"$f":"AE6+((AF6-AE6)*(AE4-AE5))","v":0},{"$f":"'Gerar Hietograma'!$F$3/'Gerar Hietograma'!$F$2*F40","v":1740},0,null,{"$f":"InterpolacaoLinear(J41,$G$12:$G$32,$H$12:$H$32)","v":107},0]
[null,null,null,null,null,31,0,{"$f":"IF('Gerar Hietograma'!$E$5=1,'Gerar Hietograma'!$F$4/100*B42,IF('Gerar Hietograma'!$E$5=2,'Gerar Hietograma'!$F$4/100*C42,IF('Gerar Hietograma'!$E$5=3,'Gerar Hietograma'!$F$4/100*D42,IF('Gerar Hietograma'!$E$5=4,'Gerar Hietograma'!$F$4/100*E42,0))))","v":0},{"$f":"AF6+((AG6-AF6)*(AF4-AF5))","v":0},{"$f":"'Gerar Hietograma'!$F$3/'Gerar Hietograma'!$F$2*F41","v":1800},0,null,{"$f":"InterpolacaoLinear(J42,$G$12:$G$32,$H$12:$H$32)","v":107},0]
[null,null,null,null,null,32,0,{"$f":"IF('Gerar Hietograma'!$E$5=1,'Gerar Hietograma'!$F$4/100*B43,IF('Gerar Hietograma'!$E$5=2,'Gerar Hietograma'!$F$4/100*C43,IF('Gerar Hietograma'!$E$5=3,'Gerar Hietograma'!$F$4/100*D43,IF('Gerar Hietograma'!$E$5=4,'Gerar Hietograma'!$F$4/100*E43,0))))","v":0},{"$f":"AG6+((AH6-AG6)*(AG4-AG5))","v":0},{"$f":"'Gerar Hietograma'!$F$3/'Gerar Hietograma'!$F$2*F42","v":1860},0,null,{"$f":"InterpolacaoLinear(J43,$G$12:$G$32,$H$12:$H$32)","v":107},0]
[null,null,null,null,null,33,0,{"$f":"IF('Gerar Hietograma'!$E$5=1,'Gerar Hietograma'!$F$4/100*B44,IF('Gerar Hietograma'!$E$5=2,'Gerar Hietograma'!$F$4/100*C44,IF('Gerar Hietograma'!$E$5=3,'Gerar Hietograma'!$F$4/100*D44,IF('Gerar Hietograma'!$E$5=4,'Gerar Hietograma'!$F$4/100*E44,0))))","v":0},{"$f":"AH6+((AI6-AH6)*(AH4-AH5))","v":0},{"$f":"'Gerar Hietograma'!$F$3/'Gerar Hietograma'!$F$2*F43","v":1920},0,null,{"$f":"InterpolacaoLinear(J44,$G$12:$G$32,$H$12:$H$32)","v":107},0]
[null,null,null,null,null,34,0,{"$f":"IF('Gerar Hietograma'!$E$5=1,'Gerar Hietograma'!$F$4/100*B45,IF('Gerar Hietograma'!$E$5=2,'Gerar Hietograma'!$F$4/100*C45,IF('Gerar Hietograma'!$E$5=3,'Gerar Hietograma'!$F$4/100*D45,IF('Gerar Hietograma'!$E$5=4,'Gerar Hietograma'!$F$4/100*E45,0))))","v":0},{"$f":"AI6+((AJ6-AI6)*(AI4-AI5))","v":0},{"$f":"'Gerar Hietograma'!$F$3/'Gerar Hietograma'!$F$2*F44","v":1980},0,null,{"$f":"InterpolacaoLinear(J45,$G$12:$G$32,$H$12:$H$32)","v":107},0]
[null,null,null,null,null,35,0,{"$f":"IF('Gerar Hietograma'!$E$5=1,'Gerar Hietograma'!$F$4/100*B46,IF('Gerar Hietograma'!$E$5=2,'Gerar Hietograma'!$F$4/100*C46,IF('Gerar Hietograma'!$E$5=3,'Gerar Hietograma'!$F$4/100*D46,IF('Gerar Hietograma'!$E$5=4,'Gerar Hietograma'!$F$4/100*E46,0))))","v":0},{"$f":"AJ6+((AK6-AJ6)*(AJ4-AJ5))","v":0},{"$f":"'Gerar Hietograma'!$F$3/'Gerar Hietograma'!$F$2*F45","v":2040},0,null,{"$f":"InterpolacaoLinear(J46,$G$12:$G$32,$H$12:$H$32)","v":107},0]
[null,null,null,null,null,36,0,{"$f":"IF('Gerar Hietograma'!$E$5=1,'Gerar Hietograma'!$F$4/100*B47,IF('Gerar Hietograma'!$E$5=2,'Gerar Hietograma'!$F$4/100*C47,IF('Gerar Hietograma'!$E$5=3,'Gerar Hietograma'!$F$4/100*D47,IF('Gerar Hietograma'!$E$5=4,'Gerar Hietograma'!$F$4/100*E47,0))))","v":0},{"$f":"AK6+((AL6-AK6)*(AK4-AK5))","v":0},{"$f":"'Gerar Hietograma'!$F$3/'Gerar Hietograma'!$F$2*F46","v":2100},0,null,{"$f":"InterpolacaoLinear(J47,$G$12:$G$32,$H$12:$H$32)","v":107},0]
[null,null,null,null,null,37,0,{"$f":"IF('Gerar Hietograma'!$E$5=1,'Gerar Hietograma'!$F$4/100*B48,IF('Gerar Hietograma'!$E$5=2,'Gerar Hietograma'!$F$4/100*C48,IF('Gerar Hietograma'!$E$5=3,'Gerar Hietograma'!$F$4/100*D48,IF('Gerar Hietograma'!$E$5=4,'Gerar Hietograma'!$F$4/100*E48,0))))","v":0},{"$f":"AL6+((AM6-AL6)*(AL4-AL5))","v":0},{"$f":"'Gerar Hietograma'!$F$3/'Gerar Hietograma'!$F$2*F47","v":2160},0,null,{"$f":"InterpolacaoLinear(J48,$G$12:$G$32,$H$12:$H$32)","v":107},0]
[null,null,null,null,null,38,0,{"$f":"IF('Gerar Hietograma'!$E$5=1,'Gerar Hietograma'!$F$4/100*B49,IF('Gerar Hietograma'!$E$5=2,'Gerar Hietograma'!$F$4/100*C49,IF('Gerar Hietograma'!$E$5=3,'Gerar Hietograma'!$F$4/100*D49,IF('Gerar Hietograma'!$E$5=4,'Gerar Hietograma'!$F$4/100*E49,0))))","v":0},{"$f":"AM6+((AN6-AM6)*(AM4-AM5))","v":0},{"$f":"'Gerar Hietograma'!$F$3/'Gerar Hietograma'!$F$2*F48","v":2220},0,null,{"$f":"InterpolacaoLinear(J49,$G$12:$G$32,$H$12:$H$32)","v":107},0]
[null,null,null,null,null,39,0,{"$f":"IF('Gerar Hietograma'!$E$5=1,'Gerar Hietograma'!$F$4/100*B50,IF('Gerar Hietograma'!$E$5=2,'Gerar Hietograma'!$F$4/100*C50,IF('Gerar Hietograma'!$E$5=3,'Gerar Hietograma'!$F$4/100*D50,IF('Gerar Hietograma'!$E$5=4,'Gerar Hietograma'!$F$4/100*E50,0))))","v":0},{"$f":"AN6+((AO6-AN6)*(AN4-AN5))","v":0},{"$f":"'Gerar Hietograma'!$F$3/'Gerar Hietograma'!$F$2*F49","v":2280},0,null,{"$f":"InterpolacaoLinear(J50,$G$12:$G$32,$H$12:$H$32)","v":107},0]
[null,null,null,null,null,40,0,{"$f":"IF('Gerar Hietograma'!$E$5=1,'Gerar Hietograma'!$F$4/100*B51,IF('Gerar Hietograma'!$E$5=2,'Gerar Hietograma'!$F$4/100*C51,IF('Gerar Hietograma'!$E$5=3,'Gerar Hietograma'!$F$4/100*D51,IF('Gerar Hietograma'!$E$5=4,'Gerar Hietograma'!$F$4/100*E51,0))))","v":0},{"$f":"AO6+((AP6-AO6)*(AO4-AO5))","v":0},{"$f":"'Gerar Hietograma'!$F$3/'Gerar Hietograma'!$F$2*F50","v":2340},0,null,{"$f":"InterpolacaoLinear(J51,$G$12:$G$32,$H$12:$H$32)","v":107},0]
[null,null,null,null,null,41,0,{"$f":"IF('Gerar Hietograma'!$E$5=1,'Gerar Hietograma'!$F$4/100*B52,IF('Gerar Hietograma'!$E$5=2,'Gerar Hietograma'!$F$4/100*C52,IF('Gerar Hietograma'!$E$5=3,'Gerar Hietograma'!$F$4/100*D52,IF('Gerar Hietograma'!$E$5=4,'Gerar Hietograma'!$F$4/100*E52,0))))","v":0},{"$f":"AP6+((AQ6-AP6)*(AP4-AP5))","v":0},{"$f":"'Gerar Hietograma'!$F$3/'Gerar Hietograma'!$F$2*F51","v":2400},0,null,{"$f":"InterpolacaoLinear(J52,$G$12:$G$32,$H$12:$H$32)","v":107},0]
[null,null,null,null,null,42,0,{"$f":"IF('Gerar Hietograma'!$E$5=1,'Gerar Hietograma'!$F$4/100*B53,IF('Gerar Hietograma'!$E$5=2,'Gerar Hietograma'!$F$4/100*C53,IF('Gerar Hietograma'!$E$5=3,'Gerar Hietograma'!$F$4/100*D53,IF('Gerar Hietograma'!$E$5=4,'Gerar Hietograma'!$F$4/100*E53,0))))","v":0},{"$f":"AQ6+((AR6-AQ6)*(AQ4-AQ5))","v":0},{"$f":"'Gerar Hietograma'!$F$3/'Gerar Hietograma'!$F$2*F52","v":2460},0,null,{"$f":"InterpolacaoLinear(J53,$G$12:$G$32,$H$12:$H$32)","v":107},0]
[null,null,null,null,null,null,null,null,{"$f":"AR6+((AW3-AR6)*(AR4-AR5))","v":0},{"$f":"'Gerar Hietograma'!$F$3/'Gerar Hietograma'!$F$2*F53","v":2520},0,null,{"$f":"InterpolacaoLinear(J54,$G$12:$G$32,$H$12:$H$32)","v":107},0]